BEGIN:VCALENDAR
VERSION:2.0
PRODID:-//ChamberMaster//Event Calendar 2.0//EN
METHOD:PUBLISH
X-PUBLISHED-TTL:P1H
REFRESH-INTERVAL:P1H
CALSCALE:GREGORIAN
BEGIN:VTIMEZONE
TZID:America/Chicago
BEGIN:DAYLIGHT
RRULE:FREQ=YEARLY;BYMONTH=3;BYDAY=2SU
DTSTART:20070101T000000
TZOFFSETFROM:-0600
TZOFFSETTO:-0500
TZNAME:Central Daylight Time
END:DAYLIGHT
BEGIN:STANDARD
RRULE:FREQ=YEARLY;BYMONTH=11;BYDAY=1SU
DTSTART:20070101T000000
TZOFFSETFROM:-0500
TZOFFSETTO:-0600
TZNAME:Central Standard Time
END:STANDARD
END:VTIMEZONE
BEGIN:VEVENT
DTSTART;TZID=America/Chicago:20260609T110000
DTEND;TZID=America/Chicago:20260609T153000
X-MICROSOFT-CDO-ALLDAYEVENT:FALSE
SUMMARY:Parade of Homes Member Bus Tour (Members Only)
DESCRIPTION:Want to visit the Parade homes in style? Leave the driving to us and enjoy a comfortable luxury bus tour of some of the more popular Parade Homes. We will be visiting House #1\, #13 and #7 (more houses to be added). With the wide spread of homes\, this is a great way to reach the outlying homes this year while enjoying lunch and beverages!\n\nThe bus tour includes: lunch\, beverages (water\, soda\, alcohol)\, a Parade of Homes ticket (visit any remaining houses on your own)\, a private tour\, transportation to the homes and networking.
X-ALT-DESC;FMTTYPE=text/html:Want to visit the Parade homes in style? Leave the driving to us and enjoy a comfortable luxury bus tour of some of the more popular Parade Homes. We will be visiting House #1\, #13 and #7 (more houses to be added). With the wide spread of homes\, this is a great way to reach the outlying homes this year while enjoying lunch and beverages!\n\nThe bus tour includes: lunch\, beverages (water\, soda\, alcohol)\, a Parade of Homes ticket (visit any remaining houses on your own)\, a private tour\, transportation to the homes and networking.
LOCATION:1801 Piedmont Road Eau Claire 54703
UID:e.4611.1449365
SEQUENCE:3
DTSTAMP:20260423T111305Z
URL:https://members.cvhomebuilders.com/events/Details/parade-of-homes-member-bus-tour-members-only-1716808?sourceTypeId=Hub
END:VEVENT
END:VCALENDAR
