BEGIN:VCALENDAR
VERSION:2.0
PRODID:-//ChamberMaster//Event Calendar 2.0//EN
METHOD:PUBLISH
X-PUBLISHED-TTL:P1H
REFRESH-INTERVAL:P1H
CALSCALE:GREGORIAN
BEGIN:VTIMEZONE
TZID:America/Chicago
BEGIN:DAYLIGHT
RRULE:FREQ=YEARLY;BYMONTH=3;BYDAY=2SU
DTSTART:20070101T000000
TZOFFSETFROM:-0600
TZOFFSETTO:-0500
TZNAME:Central Daylight Time
END:DAYLIGHT
BEGIN:STANDARD
RRULE:FREQ=YEARLY;BYMONTH=11;BYDAY=1SU
DTSTART:20070101T000000
TZOFFSETFROM:-0500
TZOFFSETTO:-0600
TZNAME:Central Standard Time
END:STANDARD
END:VTIMEZONE
BEGIN:VEVENT
DTSTART;TZID=America/Chicago:20260604T170000
DTEND;TZID=America/Chicago:20260604T200000
X-MICROSOFT-CDO-ALLDAYEVENT:FALSE
SUMMARY:Parade of Homes Premiere Night
DESCRIPTION:Join us as we kick off the 52nd Annual Parade of Homes at Firenze Estates! Hosted by Ashley Construction and C&M Home Builders and Real Estate\, the Premiere Event is exclusive to CVHBA members and invited guests and is our largest event of the year. Enjoy pizza\, drinks\, live music and the opportunity to tour Parade Homes #10\, 11 and 12.
X-ALT-DESC;FMTTYPE=text/html:<!DOCTYPE html><html><head><title></title></head><body aria-disabled="false"><p>Join us as we kick off the 52nd Annual Parade of Homes at Firenze Estates! Hosted by Ashley Construction and C&amp\;M Home Builders and Real Estate\, the Premiere Event is exclusive to CVHBA members and invited guests and is our largest event of the year. Enjoy pizza\, drinks\, live music and the opportunity to tour Parade Homes #10\, 11 and 12.</p></body></html>
LOCATION:Roma Street Eau Claire
UID:e.4611.1442591
SEQUENCE:3
DTSTAMP:20260423T111306Z
URL:https://members.cvhomebuilders.com/events/Details/parade-of-homes-premiere-night-1708632?sourceTypeId=Hub
END:VEVENT
END:VCALENDAR
